BEGIN:VCALENDAR
VERSION:2.0
PRODID:-//Caring Families Society - ECPv6.15.19//NONSGML v1.0//EN
CALSCALE:GREGORIAN
METHOD:PUBLISH
X-ORIGINAL-URL:https://caring-families.ca
X-WR-CALDESC:Events for Caring Families Society
REFRESH-INTERVAL;VALUE=DURATION:PT1H
X-Robots-Tag:noindex
X-PUBLISHED-TTL:PT1H
BEGIN:VTIMEZONE
TZID:UTC
BEGIN:STANDARD
TZOFFSETFROM:+0000
TZOFFSETTO:+0000
TZNAME:UTC
DTSTART:20240101T000000
END:STANDARD
END:VTIMEZONE
BEGIN:VEVENT
DTSTART;TZID=UTC:20250213T113000
DTEND;TZID=UTC:20250213T133000
DTSTAMP:20260420T034342
CREATED:20241221T010320Z
LAST-MODIFIED:20241221T010320Z
UID:10000047-1739446200-1739453400@caring-families.ca
SUMMARY:Caregiver Lunch and Learn
DESCRIPTION:Caregiver Lunch and Learn  \nThursday\, February 13th\, 11:30am to 1:30pm  \nCR Family Services\, conference room\, 487-10th Avenue  \nTopic: to be announced  \n(Thursday once/month) \nAll foster caregivers are welcomed. We host the gathering over the noon hour in hopes that more of our caregivers can drop in. This is your space for connecting with peers\, building community\, and sharing practical learnings for coping with the stresses of being a public parent. Bring your lunch or join us for the light refreshments supplied. Watch your email for updates about discussion topics. Contact Judy at \n250-204-1566 or Lindsy at lindsy.creedon@crfs.ca or 250-202-6036.
URL:https://caring-families.ca/event/caregiver-lunch-and-learn/
LOCATION:Campbell River Family Services (Conference Room)\, 487-10th Avenue\, Campbell River\, BC\, Canada
CATEGORIES:Upper Island
END:VEVENT
BEGIN:VEVENT
DTSTART;TZID=UTC:20250213T173000
DTEND;TZID=UTC:20250213T203000
DTSTAMP:20260420T034342
CREATED:20241220T062703Z
LAST-MODIFIED:20241220T062747Z
UID:10000025-1739467800-1739478600@caring-families.ca
SUMMARY:Giving and Receiving Healing Evening
DESCRIPTION:Developed by Complex Trauma Resources \nFacilitated by Ros Pringle \nThursdays\, January 16th to February 27th\, 5:30pm to 8:30pm \nOpen to Vancouver Island in-care foster caregivers. This seven-week training includes open resources and research from renowned trauma experts such as Bessel Van DerKolk\, Bruce Parry\, Dan Seigel\, Brene Brown\, and Harvard University. The first module is an introduction to the training and must be previewed before attending the first session. Topics enhance caregivers’ skills and confidence and include: \n1. Understanding Trauma \n2. Principles of Trauma-Informed Care: \n3. Recognizing Signs of Trauma: \n4. Effective Communication: \n5. Coping Strategies: \n6. Collaboration with Professionals: \n7. Cultural Competence: \n8. Self-Care for Caregivers: \nConclusion\nBy the end of the training\, caregivers will be equipped with practical tools and a deeper understanding of trauma-informed care\, enabling them to create a supportive and healing environment for the children in their care. This training not only benefits the children but also enhances the caregivers’ skills and confidence. \nRegister: https://learn.fpsss.com/courses/garh-eve/
URL:https://caring-families.ca/event/giving-and-receiving-healing-evening/2025-02-13/
LOCATION:Zoom
CATEGORIES:Virtual
END:VEVENT
END:VCALENDAR