BEGIN:VCALENDAR
VERSION:2.0
PRODID:-//Caring Families Society - ECPv6.15.19//NONSGML v1.0//EN
CALSCALE:GREGORIAN
METHOD:PUBLISH
X-ORIGINAL-URL:https://caring-families.ca
X-WR-CALDESC:Events for Caring Families Society
REFRESH-INTERVAL;VALUE=DURATION:PT1H
X-Robots-Tag:noindex
X-PUBLISHED-TTL:PT1H
BEGIN:VTIMEZONE
TZID:America/Vancouver
BEGIN:DAYLIGHT
TZOFFSETFROM:-0800
TZOFFSETTO:-0700
TZNAME:PDT
DTSTART:20250309T100000
END:DAYLIGHT
BEGIN:STANDARD
TZOFFSETFROM:-0700
TZOFFSETTO:-0800
TZNAME:PST
DTSTART:20251102T090000
END:STANDARD
BEGIN:DAYLIGHT
TZOFFSETFROM:-0800
TZOFFSETTO:-0700
TZNAME:PDT
DTSTART:20260308T100000
END:DAYLIGHT
BEGIN:STANDARD
TZOFFSETFROM:-0700
TZOFFSETTO:-0800
TZNAME:PST
DTSTART:20261101T090000
END:STANDARD
BEGIN:DAYLIGHT
TZOFFSETFROM:-0800
TZOFFSETTO:-0700
TZNAME:PDT
DTSTART:20270314T100000
END:DAYLIGHT
BEGIN:STANDARD
TZOFFSETFROM:-0700
TZOFFSETTO:-0800
TZNAME:PST
DTSTART:20271107T090000
END:STANDARD
END:VTIMEZONE
BEGIN:VEVENT
DTSTART;TZID=America/Vancouver:20260318T093000
DTEND;TZID=America/Vancouver:20260318T113000
DTSTAMP:20260419T173434
CREATED:20260303T231413Z
LAST-MODIFIED:20260303T231413Z
UID:10000500-1773826200-1773833400@caring-families.ca
SUMMARY:Foster Caregivers Mornings
DESCRIPTION:Foster Caregivers Mornings \nWednesday\, March 18th\, 9:30am to 11:30am \nCowichan Community Center – Nitinat Room \n2687 James Street\, Duncan \nThese gatherings are great to connect with other foster caregivers \nwho understand the unique challenges and rewards of fostering. The \nNitinat Room is at the end of the hall on the second floor of the \nCowichan Community Center. Come and meet members of your \nCowichan Valley Foster Parents Local and other wonderful foster \ncaregivers! March’s meeting is during spring break\, so this will be a \nfamily friendly morning! Arrangements for a guest speaker for April’s \nmeeting are in process. Watch your emails for more information.
URL:https://caring-families.ca/event/foster-caregivers-mornings/
CATEGORIES:Central Island
END:VEVENT
END:VCALENDAR