BEGIN:VCALENDAR
VERSION:2.0
PRODID:-//Caring Families Society - ECPv6.15.19//NONSGML v1.0//EN
CALSCALE:GREGORIAN
METHOD:PUBLISH
X-ORIGINAL-URL:https://caring-families.ca
X-WR-CALDESC:Events for Caring Families Society
REFRESH-INTERVAL;VALUE=DURATION:PT1H
X-Robots-Tag:noindex
X-PUBLISHED-TTL:PT1H
BEGIN:VTIMEZONE
TZID:America/Vancouver
BEGIN:DAYLIGHT
TZOFFSETFROM:-0800
TZOFFSETTO:-0700
TZNAME:PDT
DTSTART:20240310T100000
END:DAYLIGHT
BEGIN:STANDARD
TZOFFSETFROM:-0700
TZOFFSETTO:-0800
TZNAME:PST
DTSTART:20241103T090000
END:STANDARD
BEGIN:DAYLIGHT
TZOFFSETFROM:-0800
TZOFFSETTO:-0700
TZNAME:PDT
DTSTART:20250309T100000
END:DAYLIGHT
BEGIN:STANDARD
TZOFFSETFROM:-0700
TZOFFSETTO:-0800
TZNAME:PST
DTSTART:20251102T090000
END:STANDARD
BEGIN:DAYLIGHT
TZOFFSETFROM:-0800
TZOFFSETTO:-0700
TZNAME:PDT
DTSTART:20260308T100000
END:DAYLIGHT
BEGIN:STANDARD
TZOFFSETFROM:-0700
TZOFFSETTO:-0800
TZNAME:PST
DTSTART:20261101T090000
END:STANDARD
END:VTIMEZONE
BEGIN:VEVENT
DTSTART;TZID=America/Vancouver:20250923T090000
DTEND;TZID=America/Vancouver:20250923T120000
DTSTAMP:20260420T150722
CREATED:20250925T170442Z
LAST-MODIFIED:20250925T170442Z
UID:10000387-1758618000-1758628800@caring-families.ca
SUMMARY:Caregiver Coffee Mornings
DESCRIPTION:Caregiver Coffee Mornings Tuesday\, September 23rd\, 9:00am to 12:00 noon In-Person! We are going old school and want you there! Connect with caregivers and friends\, share stories\, tips\, and laughter. Kids will enjoy some treats and playtime. You can hear what everyone else did during the summer. Goodies for grown-ups too! Whether you’re coming for the conversation or the coffee\, it’s going to be great to see each other again and catch up. R.S.V.P. to Sandy at slcase@shaw.ca for address.
URL:https://caring-families.ca/event/caregiver-coffee-mornings/
CATEGORIES:South Island
END:VEVENT
END:VCALENDAR