BEGIN:VCALENDAR
VERSION:2.0
PRODID:-//Caring Families Society - ECPv6.15.19//NONSGML v1.0//EN
CALSCALE:GREGORIAN
METHOD:PUBLISH
X-WR-CALNAME:Caring Families Society
X-ORIGINAL-URL:https://caring-families.ca
X-WR-CALDESC:Events for Caring Families Society
REFRESH-INTERVAL;VALUE=DURATION:PT1H
X-Robots-Tag:noindex
X-PUBLISHED-TTL:PT1H
BEGIN:VTIMEZONE
TZID:America/Vancouver
BEGIN:DAYLIGHT
TZOFFSETFROM:-0800
TZOFFSETTO:-0700
TZNAME:PDT
DTSTART:20250309T100000
END:DAYLIGHT
BEGIN:STANDARD
TZOFFSETFROM:-0700
TZOFFSETTO:-0800
TZNAME:PST
DTSTART:20251102T090000
END:STANDARD
BEGIN:DAYLIGHT
TZOFFSETFROM:-0800
TZOFFSETTO:-0700
TZNAME:PDT
DTSTART:20260308T100000
END:DAYLIGHT
BEGIN:STANDARD
TZOFFSETFROM:-0700
TZOFFSETTO:-0800
TZNAME:PST
DTSTART:20261101T090000
END:STANDARD
BEGIN:DAYLIGHT
TZOFFSETFROM:-0800
TZOFFSETTO:-0700
TZNAME:PDT
DTSTART:20270314T100000
END:DAYLIGHT
BEGIN:STANDARD
TZOFFSETFROM:-0700
TZOFFSETTO:-0800
TZNAME:PST
DTSTART:20271107T090000
END:STANDARD
END:VTIMEZONE
BEGIN:VEVENT
DTSTART;TZID=America/Vancouver:20260428T090000
DTEND;TZID=America/Vancouver:20260428T120000
DTSTAMP:20260420T052309
CREATED:20260303T220428Z
LAST-MODIFIED:20260303T220428Z
UID:10000497-1777366800-1777377600@caring-families.ca
SUMMARY:Caregiver Coffee In-Person Mornings
DESCRIPTION:Caregiver Coffee In-Person Mornings \nTuesday\, “April 28th\, 9:00am to 12:00 noon \nWelcome to a warm\, supportive space\, a perfect spot to connect with \ncaregivers and friends\, swap stories\, share tips\, and enjoy a few laughs. \nKids can dive into treats and playtime\, and yes – there are goodies for \ngrown-ups too! \nGrab a cup\, settle in\, and enjoy a cozy morning with good company. \nPlease R.S.V.P. to Sandy at slcase@shaw.ca.
URL:https://caring-families.ca/event/caregiver-coffee-in-person-mornings/
CATEGORIES:South Island
END:VEVENT
END:VCALENDAR