BEGIN:VCALENDAR
VERSION:2.0
PRODID:-//Caring Families Society - ECPv6.15.19//NONSGML v1.0//EN
CALSCALE:GREGORIAN
METHOD:PUBLISH
X-WR-CALNAME:Caring Families Society
X-ORIGINAL-URL:https://caring-families.ca
X-WR-CALDESC:Events for Caring Families Society
REFRESH-INTERVAL;VALUE=DURATION:PT1H
X-Robots-Tag:noindex
X-PUBLISHED-TTL:PT1H
BEGIN:VTIMEZONE
TZID:America/Vancouver
BEGIN:DAYLIGHT
TZOFFSETFROM:-0800
TZOFFSETTO:-0700
TZNAME:PDT
DTSTART:20240310T100000
END:DAYLIGHT
BEGIN:STANDARD
TZOFFSETFROM:-0700
TZOFFSETTO:-0800
TZNAME:PST
DTSTART:20241103T090000
END:STANDARD
BEGIN:DAYLIGHT
TZOFFSETFROM:-0800
TZOFFSETTO:-0700
TZNAME:PDT
DTSTART:20250309T100000
END:DAYLIGHT
BEGIN:STANDARD
TZOFFSETFROM:-0700
TZOFFSETTO:-0800
TZNAME:PST
DTSTART:20251102T090000
END:STANDARD
BEGIN:DAYLIGHT
TZOFFSETFROM:-0800
TZOFFSETTO:-0700
TZNAME:PDT
DTSTART:20260308T100000
END:DAYLIGHT
BEGIN:STANDARD
TZOFFSETFROM:-0700
TZOFFSETTO:-0800
TZNAME:PST
DTSTART:20261101T090000
END:STANDARD
END:VTIMEZONE
BEGIN:VEVENT
DTSTART;TZID=America/Vancouver:20251103T120000
DTEND;TZID=America/Vancouver:20251103T133000
DTSTAMP:20260424T104018
CREATED:20250925T164820Z
LAST-MODIFIED:20250925T164820Z
UID:10000149-1762171200-1762176600@caring-families.ca
SUMMARY:Circle of Security Parenting Program
DESCRIPTION:Mondays\, September 15th to November 3rd\, 12:00pm to 1:30pm Facilitated by Fostering Early Development Open to Foster Caregivers only. At times\, all caregivers feel lost or without a clue about what our child might need from us. Imagine what it might feel like if you were able to make sense of what your child was really asking from you. The Circle of Security Parenting program is based on decades of research about how secure parent-child relationships can be supported and strengthened. Understand your child’s emotional world by learning to read the emotional needs Support your child’s ability to successfully manage emotions Enhance the development of your child’s self esteem. Honor your innate wisdom and desire for your child to be secure.
URL:https://caring-families.ca/event/circle-of-security-parenting-program/2025-11-03/
CATEGORIES:Virtual
END:VEVENT
END:VCALENDAR