BEGIN:VCALENDAR
VERSION:2.0
PRODID:-//Caring Families Society - ECPv6.15.19//NONSGML v1.0//EN
CALSCALE:GREGORIAN
METHOD:PUBLISH
X-ORIGINAL-URL:https://caring-families.ca
X-WR-CALDESC:Events for Caring Families Society
REFRESH-INTERVAL;VALUE=DURATION:PT1H
X-Robots-Tag:noindex
X-PUBLISHED-TTL:PT1H
BEGIN:VTIMEZONE
TZID:America/Vancouver
BEGIN:DAYLIGHT
TZOFFSETFROM:-0800
TZOFFSETTO:-0700
TZNAME:PDT
DTSTART:20250309T100000
END:DAYLIGHT
BEGIN:STANDARD
TZOFFSETFROM:-0700
TZOFFSETTO:-0800
TZNAME:PST
DTSTART:20251102T090000
END:STANDARD
BEGIN:DAYLIGHT
TZOFFSETFROM:-0800
TZOFFSETTO:-0700
TZNAME:PDT
DTSTART:20260308T100000
END:DAYLIGHT
BEGIN:STANDARD
TZOFFSETFROM:-0700
TZOFFSETTO:-0800
TZNAME:PST
DTSTART:20261101T090000
END:STANDARD
BEGIN:DAYLIGHT
TZOFFSETFROM:-0800
TZOFFSETTO:-0700
TZNAME:PDT
DTSTART:20270314T100000
END:DAYLIGHT
BEGIN:STANDARD
TZOFFSETFROM:-0700
TZOFFSETTO:-0800
TZNAME:PST
DTSTART:20271107T090000
END:STANDARD
END:VTIMEZONE
BEGIN:VEVENT
DTSTART;TZID=America/Vancouver:20260421T100000
DTEND;TZID=America/Vancouver:20260421T113000
DTSTAMP:20260421T172210
CREATED:20260304T184341Z
LAST-MODIFIED:20260304T184341Z
UID:10000516-1776765600-1776771000@caring-families.ca
SUMMARY:Overview of the Public Guardian and Trustee of BC
DESCRIPTION:Overview of the Public Guardian and Trustee of BC \nTuesday\, April 21st\, 10:00am to 11:30am \nFacilitated by The Office of the Public Guardian and Trustee of BC \nVirtual. Open to Foster Caregivers\, Kinship/Out-of-Care Caregivers\, Contracted Agency Caregivers\, Social Workers\, Community Professionals\, \nand General Public who are members of CLN. \nThe Public Guardian and Trustee (PGT) of BC works for British Columbians to protect the legal and financial interests of children under the age \nof 19 years\, protect the legal\, financial\, personal and health care interests of adults who need help with decision making\, and administer \nestates of deceased and missing persons. In this online seminar\, facilitator Patricia Hanley will provide an overview of the PGT and then focus \non its services for children and youth. Please join us in exploring and learning more about: \n• The PGT’s organization including their vision\, mandate and values. \n• The approaches and legislation that guide PGT’s work. \n• How the PGT protects the legal and financial interests of children and youth in care. \n• How the PGT manages the assets of people under the age of 19. \n• Sharing of resources that are available to people who were in the care of the Province as children. \n• How the PGT supports First Nations that have taken on jurisdiction for their child and family services. \nWatch your email for registration link
URL:https://caring-families.ca/event/overview-of-the-public-guardian-and-trustee-of-bc-2/
CATEGORIES:Virtual
END:VEVENT
BEGIN:VEVENT
DTSTART;TZID=America/Vancouver:20260421T100000
DTEND;TZID=America/Vancouver:20260421T233000
DTSTAMP:20260421T172210
CREATED:20260303T220654Z
LAST-MODIFIED:20260303T220654Z
UID:10000498-1776765600-1776814200@caring-families.ca
SUMMARY:Overview of the Public Guardian and Trustee of BC
DESCRIPTION:Overview of the Public Guardian and Trustee of BC \nTuesday\, April 21st\, 10:00am to 11:30am \nOpen to Foster Caregivers\, Kinship Caregivers\, Contracted Agency \nCaregivers\, Social Workers\, Community Professionals\, and other CLN \nMembers \nThe Public Guardian and Trustee (PGT) of BC works for British \nColumbians to protect the legal and shared resources of children under \nthe age of 19 years\, protect the legal\, financial\, personal and health \ncare interests of adults who need help with decision making\, and \nadminister estates of deceased and missing persons. \nWatch your emails for the registration invitation.
URL:https://caring-families.ca/event/overview-of-the-public-guardian-and-trustee-of-bc/
CATEGORIES:Virtual
END:VEVENT
BEGIN:VEVENT
DTSTART;TZID=America/Vancouver:20260423T093000
DTEND;TZID=America/Vancouver:20260423T113000
DTSTAMP:20260421T172210
CREATED:20250925T165306Z
LAST-MODIFIED:20250925T165306Z
UID:10000182-1776936600-1776943800@caring-families.ca
SUMMARY:Business Side of Fostering
DESCRIPTION:Thursday\, September 18th and September 25th\, 9:30am to 11:30am Facilitated by Interior Community Services Open to Foster Caregivers and Social Workers Do you want to understand your role\, responsibilities and rights from a business perspective? If so\, this two-part\, four-hour course is for you! We will cover 1. The ins and outs of your contract 2. The Care Home Investigation (protocol) and quality of care review process 3. What (and why) to document and report 4. Insurance/WCB for Foster Caregivers 5. Resources For more information\, contact Marna Forsyth at 250-698-2017 or mforsyth@interiorcommunityservices.bc.ca Register: https://learn.fpsss.com/training/bsfsept25/2025-09-18/
URL:https://caring-families.ca/event/business-side-of-fostering/2026-04-23/
CATEGORIES:Virtual
END:VEVENT
BEGIN:VEVENT
DTSTART;TZID=America/Vancouver:20260430T093000
DTEND;TZID=America/Vancouver:20260430T113000
DTSTAMP:20260421T172210
CREATED:20250925T165306Z
LAST-MODIFIED:20250925T165306Z
UID:10000183-1777541400-1777548600@caring-families.ca
SUMMARY:Business Side of Fostering
DESCRIPTION:Thursday\, September 18th and September 25th\, 9:30am to 11:30am Facilitated by Interior Community Services Open to Foster Caregivers and Social Workers Do you want to understand your role\, responsibilities and rights from a business perspective? If so\, this two-part\, four-hour course is for you! We will cover 1. The ins and outs of your contract 2. The Care Home Investigation (protocol) and quality of care review process 3. What (and why) to document and report 4. Insurance/WCB for Foster Caregivers 5. Resources For more information\, contact Marna Forsyth at 250-698-2017 or mforsyth@interiorcommunityservices.bc.ca Register: https://learn.fpsss.com/training/bsfsept25/2025-09-18/
URL:https://caring-families.ca/event/business-side-of-fostering/2026-04-30/
CATEGORIES:Virtual
END:VEVENT
END:VCALENDAR