BEGIN:VCALENDAR
VERSION:2.0
PRODID:-//Caring Families Society - ECPv6.15.19//NONSGML v1.0//EN
CALSCALE:GREGORIAN
METHOD:PUBLISH
X-WR-CALNAME:Caring Families Society
X-ORIGINAL-URL:https://caring-families.ca
X-WR-CALDESC:Events for Caring Families Society
REFRESH-INTERVAL;VALUE=DURATION:PT1H
X-Robots-Tag:noindex
X-PUBLISHED-TTL:PT1H
BEGIN:VTIMEZONE
TZID:America/Vancouver
BEGIN:DAYLIGHT
TZOFFSETFROM:-0800
TZOFFSETTO:-0700
TZNAME:PDT
DTSTART:20250309T100000
END:DAYLIGHT
BEGIN:STANDARD
TZOFFSETFROM:-0700
TZOFFSETTO:-0800
TZNAME:PST
DTSTART:20251102T090000
END:STANDARD
BEGIN:DAYLIGHT
TZOFFSETFROM:-0800
TZOFFSETTO:-0700
TZNAME:PDT
DTSTART:20260308T100000
END:DAYLIGHT
BEGIN:STANDARD
TZOFFSETFROM:-0700
TZOFFSETTO:-0800
TZNAME:PST
DTSTART:20261101T090000
END:STANDARD
BEGIN:DAYLIGHT
TZOFFSETFROM:-0800
TZOFFSETTO:-0700
TZNAME:PDT
DTSTART:20270314T100000
END:DAYLIGHT
BEGIN:STANDARD
TZOFFSETFROM:-0700
TZOFFSETTO:-0800
TZNAME:PST
DTSTART:20271107T090000
END:STANDARD
END:VTIMEZONE
BEGIN:VEVENT
DTSTART;TZID=America/Vancouver:20260716T093000
DTEND;TZID=America/Vancouver:20260716T113000
DTSTAMP:20260423T151035
CREATED:20250925T165306Z
LAST-MODIFIED:20250925T165306Z
UID:10000194-1784194200-1784201400@caring-families.ca
SUMMARY:Business Side of Fostering
DESCRIPTION:Thursday\, September 18th and September 25th\, 9:30am to 11:30am Facilitated by Interior Community Services Open to Foster Caregivers and Social Workers Do you want to understand your role\, responsibilities and rights from a business perspective? If so\, this two-part\, four-hour course is for you! We will cover 1. The ins and outs of your contract 2. The Care Home Investigation (protocol) and quality of care review process 3. What (and why) to document and report 4. Insurance/WCB for Foster Caregivers 5. Resources For more information\, contact Marna Forsyth at 250-698-2017 or mforsyth@interiorcommunityservices.bc.ca Register: https://learn.fpsss.com/training/bsfsept25/2025-09-18/
URL:https://caring-families.ca/event/business-side-of-fostering/2026-07-16/
CATEGORIES:Virtual
END:VEVENT
BEGIN:VEVENT
DTSTART;TZID=America/Vancouver:20260722T120000
DTEND;TZID=America/Vancouver:20260722T130000
DTSTAMP:20260423T151035
CREATED:20260423T210150Z
LAST-MODIFIED:20260423T210150Z
UID:10000522-1784721600-1784725200@caring-families.ca
SUMMARY:Foster Caregiving Information Session
DESCRIPTION:Register for an information session to learn more about becoming a foster caregiver and to help you decide if fostering is right for you.\n\nFostering can be an incredibly rewarding experience. It can also be very challenging and frustrating at times\, and it is important to take the time to consider if it is right for you and your family at this time. \nPeople choose to become foster parents for many reasons\, but all share a love for children and the desire to help those in need without an expectation of receiving something in return. \nRegister here for July 22\, 12:00 pm – 1:00 pm: https://lp.constantcontactpages.com/ev/reg/hudytga/lp/46977f0f-dc75-4d1e-9cbf-796cc2e68519
URL:https://caring-families.ca/event/foster-caregiving-information-session-5/
CATEGORIES:Virtual
END:VEVENT
BEGIN:VEVENT
DTSTART;TZID=America/Vancouver:20260723T093000
DTEND;TZID=America/Vancouver:20260723T113000
DTSTAMP:20260423T151035
CREATED:20250925T165306Z
LAST-MODIFIED:20250925T165306Z
UID:10000195-1784799000-1784806200@caring-families.ca
SUMMARY:Business Side of Fostering
DESCRIPTION:Thursday\, September 18th and September 25th\, 9:30am to 11:30am Facilitated by Interior Community Services Open to Foster Caregivers and Social Workers Do you want to understand your role\, responsibilities and rights from a business perspective? If so\, this two-part\, four-hour course is for you! We will cover 1. The ins and outs of your contract 2. The Care Home Investigation (protocol) and quality of care review process 3. What (and why) to document and report 4. Insurance/WCB for Foster Caregivers 5. Resources For more information\, contact Marna Forsyth at 250-698-2017 or mforsyth@interiorcommunityservices.bc.ca Register: https://learn.fpsss.com/training/bsfsept25/2025-09-18/
URL:https://caring-families.ca/event/business-side-of-fostering/2026-07-23/
CATEGORIES:Virtual
END:VEVENT
BEGIN:VEVENT
DTSTART;TZID=America/Vancouver:20260730T093000
DTEND;TZID=America/Vancouver:20260730T113000
DTSTAMP:20260423T151035
CREATED:20250925T165306Z
LAST-MODIFIED:20250925T165306Z
UID:10000196-1785403800-1785411000@caring-families.ca
SUMMARY:Business Side of Fostering
DESCRIPTION:Thursday\, September 18th and September 25th\, 9:30am to 11:30am Facilitated by Interior Community Services Open to Foster Caregivers and Social Workers Do you want to understand your role\, responsibilities and rights from a business perspective? If so\, this two-part\, four-hour course is for you! We will cover 1. The ins and outs of your contract 2. The Care Home Investigation (protocol) and quality of care review process 3. What (and why) to document and report 4. Insurance/WCB for Foster Caregivers 5. Resources For more information\, contact Marna Forsyth at 250-698-2017 or mforsyth@interiorcommunityservices.bc.ca Register: https://learn.fpsss.com/training/bsfsept25/2025-09-18/
URL:https://caring-families.ca/event/business-side-of-fostering/2026-07-30/
CATEGORIES:Virtual
END:VEVENT
BEGIN:VEVENT
DTSTART;TZID=America/Vancouver:20260805T183000
DTEND;TZID=America/Vancouver:20260805T193000
DTSTAMP:20260423T151035
CREATED:20260423T210648Z
LAST-MODIFIED:20260423T210648Z
UID:10000523-1785954600-1785958200@caring-families.ca
SUMMARY:Foster Caregiving Information Session
DESCRIPTION:Register for an information session to learn more about becoming a foster caregiver and to help you decide if fostering is right for you.\n\nFostering can be an incredibly rewarding experience. It can also be very challenging and frustrating at times\, and it is important to take the time to consider if it is right for you and your family at this time. \nPeople choose to become foster parents for many reasons\, but all share a love for children and the desire to help those in need without an expectation of receiving something in return. \nRegister here for August 5\, 6:30 pm – 7:30 pm: https://lp.constantcontactpages.com/ev/reg/jy68wxa/lp/60ebfefe-07cc-4834-be75-86b4a0f5e1c0
URL:https://caring-families.ca/event/foster-caregiving-information-session-6/
CATEGORIES:Virtual
END:VEVENT
BEGIN:VEVENT
DTSTART;TZID=America/Vancouver:20260806T093000
DTEND;TZID=America/Vancouver:20260806T113000
DTSTAMP:20260423T151035
CREATED:20250925T165306Z
LAST-MODIFIED:20250925T165306Z
UID:10000197-1786008600-1786015800@caring-families.ca
SUMMARY:Business Side of Fostering
DESCRIPTION:Thursday\, September 18th and September 25th\, 9:30am to 11:30am Facilitated by Interior Community Services Open to Foster Caregivers and Social Workers Do you want to understand your role\, responsibilities and rights from a business perspective? If so\, this two-part\, four-hour course is for you! We will cover 1. The ins and outs of your contract 2. The Care Home Investigation (protocol) and quality of care review process 3. What (and why) to document and report 4. Insurance/WCB for Foster Caregivers 5. Resources For more information\, contact Marna Forsyth at 250-698-2017 or mforsyth@interiorcommunityservices.bc.ca Register: https://learn.fpsss.com/training/bsfsept25/2025-09-18/
URL:https://caring-families.ca/event/business-side-of-fostering/2026-08-06/
CATEGORIES:Virtual
END:VEVENT
BEGIN:VEVENT
DTSTART;TZID=America/Vancouver:20260813T093000
DTEND;TZID=America/Vancouver:20260813T113000
DTSTAMP:20260423T151035
CREATED:20250925T165306Z
LAST-MODIFIED:20250925T165306Z
UID:10000198-1786613400-1786620600@caring-families.ca
SUMMARY:Business Side of Fostering
DESCRIPTION:Thursday\, September 18th and September 25th\, 9:30am to 11:30am Facilitated by Interior Community Services Open to Foster Caregivers and Social Workers Do you want to understand your role\, responsibilities and rights from a business perspective? If so\, this two-part\, four-hour course is for you! We will cover 1. The ins and outs of your contract 2. The Care Home Investigation (protocol) and quality of care review process 3. What (and why) to document and report 4. Insurance/WCB for Foster Caregivers 5. Resources For more information\, contact Marna Forsyth at 250-698-2017 or mforsyth@interiorcommunityservices.bc.ca Register: https://learn.fpsss.com/training/bsfsept25/2025-09-18/
URL:https://caring-families.ca/event/business-side-of-fostering/2026-08-13/
CATEGORIES:Virtual
END:VEVENT
BEGIN:VEVENT
DTSTART;TZID=America/Vancouver:20260819T120000
DTEND;TZID=America/Vancouver:20260819T130000
DTSTAMP:20260423T151035
CREATED:20260423T210812Z
LAST-MODIFIED:20260423T210812Z
UID:10000524-1787140800-1787144400@caring-families.ca
SUMMARY:Foster Caregiving Information Session
DESCRIPTION:Register for an information session to learn more about becoming a foster caregiver and to help you decide if fostering is right for you.\n\nFostering can be an incredibly rewarding experience. It can also be very challenging and frustrating at times\, and it is important to take the time to consider if it is right for you and your family at this time. \nPeople choose to become foster parents for many reasons\, but all share a love for children and the desire to help those in need without an expectation of receiving something in return. \nRegister here for August 19\, 12:00 pm – 1:00 pm: https://lp.constantcontactpages.com/ev/reg/y8ypph6/lp/ee57dc6a-8701-4947-945d-f445dff9364b
URL:https://caring-families.ca/event/foster-caregiving-information-session-7/
CATEGORIES:Virtual
END:VEVENT
BEGIN:VEVENT
DTSTART;TZID=America/Vancouver:20260820T093000
DTEND;TZID=America/Vancouver:20260820T113000
DTSTAMP:20260423T151035
CREATED:20250925T165306Z
LAST-MODIFIED:20250925T165306Z
UID:10000199-1787218200-1787225400@caring-families.ca
SUMMARY:Business Side of Fostering
DESCRIPTION:Thursday\, September 18th and September 25th\, 9:30am to 11:30am Facilitated by Interior Community Services Open to Foster Caregivers and Social Workers Do you want to understand your role\, responsibilities and rights from a business perspective? If so\, this two-part\, four-hour course is for you! We will cover 1. The ins and outs of your contract 2. The Care Home Investigation (protocol) and quality of care review process 3. What (and why) to document and report 4. Insurance/WCB for Foster Caregivers 5. Resources For more information\, contact Marna Forsyth at 250-698-2017 or mforsyth@interiorcommunityservices.bc.ca Register: https://learn.fpsss.com/training/bsfsept25/2025-09-18/
URL:https://caring-families.ca/event/business-side-of-fostering/2026-08-20/
CATEGORIES:Virtual
END:VEVENT
BEGIN:VEVENT
DTSTART;TZID=America/Vancouver:20260827T093000
DTEND;TZID=America/Vancouver:20260827T113000
DTSTAMP:20260423T151035
CREATED:20250925T165306Z
LAST-MODIFIED:20250925T165306Z
UID:10000200-1787823000-1787830200@caring-families.ca
SUMMARY:Business Side of Fostering
DESCRIPTION:Thursday\, September 18th and September 25th\, 9:30am to 11:30am Facilitated by Interior Community Services Open to Foster Caregivers and Social Workers Do you want to understand your role\, responsibilities and rights from a business perspective? If so\, this two-part\, four-hour course is for you! We will cover 1. The ins and outs of your contract 2. The Care Home Investigation (protocol) and quality of care review process 3. What (and why) to document and report 4. Insurance/WCB for Foster Caregivers 5. Resources For more information\, contact Marna Forsyth at 250-698-2017 or mforsyth@interiorcommunityservices.bc.ca Register: https://learn.fpsss.com/training/bsfsept25/2025-09-18/
URL:https://caring-families.ca/event/business-side-of-fostering/2026-08-27/
CATEGORIES:Virtual
END:VEVENT
BEGIN:VEVENT
DTSTART;TZID=America/Vancouver:20260903T093000
DTEND;TZID=America/Vancouver:20260903T113000
DTSTAMP:20260423T151035
CREATED:20250925T165306Z
LAST-MODIFIED:20250925T165306Z
UID:10000201-1788427800-1788435000@caring-families.ca
SUMMARY:Business Side of Fostering
DESCRIPTION:Thursday\, September 18th and September 25th\, 9:30am to 11:30am Facilitated by Interior Community Services Open to Foster Caregivers and Social Workers Do you want to understand your role\, responsibilities and rights from a business perspective? If so\, this two-part\, four-hour course is for you! We will cover 1. The ins and outs of your contract 2. The Care Home Investigation (protocol) and quality of care review process 3. What (and why) to document and report 4. Insurance/WCB for Foster Caregivers 5. Resources For more information\, contact Marna Forsyth at 250-698-2017 or mforsyth@interiorcommunityservices.bc.ca Register: https://learn.fpsss.com/training/bsfsept25/2025-09-18/
URL:https://caring-families.ca/event/business-side-of-fostering/2026-09-03/
CATEGORIES:Virtual
END:VEVENT
BEGIN:VEVENT
DTSTART;TZID=America/Vancouver:20260910T093000
DTEND;TZID=America/Vancouver:20260910T113000
DTSTAMP:20260423T151035
CREATED:20250925T165306Z
LAST-MODIFIED:20250925T165306Z
UID:10000202-1789032600-1789039800@caring-families.ca
SUMMARY:Business Side of Fostering
DESCRIPTION:Thursday\, September 18th and September 25th\, 9:30am to 11:30am Facilitated by Interior Community Services Open to Foster Caregivers and Social Workers Do you want to understand your role\, responsibilities and rights from a business perspective? If so\, this two-part\, four-hour course is for you! We will cover 1. The ins and outs of your contract 2. The Care Home Investigation (protocol) and quality of care review process 3. What (and why) to document and report 4. Insurance/WCB for Foster Caregivers 5. Resources For more information\, contact Marna Forsyth at 250-698-2017 or mforsyth@interiorcommunityservices.bc.ca Register: https://learn.fpsss.com/training/bsfsept25/2025-09-18/
URL:https://caring-families.ca/event/business-side-of-fostering/2026-09-10/
CATEGORIES:Virtual
END:VEVENT
BEGIN:VEVENT
DTSTART;TZID=America/Vancouver:20260917T093000
DTEND;TZID=America/Vancouver:20260917T113000
DTSTAMP:20260423T151035
CREATED:20250925T165306Z
LAST-MODIFIED:20250925T165306Z
UID:10000203-1789637400-1789644600@caring-families.ca
SUMMARY:Business Side of Fostering
DESCRIPTION:Thursday\, September 18th and September 25th\, 9:30am to 11:30am Facilitated by Interior Community Services Open to Foster Caregivers and Social Workers Do you want to understand your role\, responsibilities and rights from a business perspective? If so\, this two-part\, four-hour course is for you! We will cover 1. The ins and outs of your contract 2. The Care Home Investigation (protocol) and quality of care review process 3. What (and why) to document and report 4. Insurance/WCB for Foster Caregivers 5. Resources For more information\, contact Marna Forsyth at 250-698-2017 or mforsyth@interiorcommunityservices.bc.ca Register: https://learn.fpsss.com/training/bsfsept25/2025-09-18/
URL:https://caring-families.ca/event/business-side-of-fostering/2026-09-17/
CATEGORIES:Virtual
END:VEVENT
BEGIN:VEVENT
DTSTART;TZID=America/Vancouver:20260924T093000
DTEND;TZID=America/Vancouver:20260924T113000
DTSTAMP:20260423T151035
CREATED:20250925T165306Z
LAST-MODIFIED:20250925T165306Z
UID:10000204-1790242200-1790249400@caring-families.ca
SUMMARY:Business Side of Fostering
DESCRIPTION:Thursday\, September 18th and September 25th\, 9:30am to 11:30am Facilitated by Interior Community Services Open to Foster Caregivers and Social Workers Do you want to understand your role\, responsibilities and rights from a business perspective? If so\, this two-part\, four-hour course is for you! We will cover 1. The ins and outs of your contract 2. The Care Home Investigation (protocol) and quality of care review process 3. What (and why) to document and report 4. Insurance/WCB for Foster Caregivers 5. Resources For more information\, contact Marna Forsyth at 250-698-2017 or mforsyth@interiorcommunityservices.bc.ca Register: https://learn.fpsss.com/training/bsfsept25/2025-09-18/
URL:https://caring-families.ca/event/business-side-of-fostering/2026-09-24/
CATEGORIES:Virtual
END:VEVENT
END:VCALENDAR