BEGIN:VCALENDAR
VERSION:2.0
PRODID:-//Caring Families Society - ECPv6.15.19//NONSGML v1.0//EN
CALSCALE:GREGORIAN
METHOD:PUBLISH
X-WR-CALNAME:Caring Families Society
X-ORIGINAL-URL:https://caring-families.ca
X-WR-CALDESC:Events for Caring Families Society
REFRESH-INTERVAL;VALUE=DURATION:PT1H
X-Robots-Tag:noindex
X-PUBLISHED-TTL:PT1H
BEGIN:VTIMEZONE
TZID:UTC
BEGIN:STANDARD
TZOFFSETFROM:+0000
TZOFFSETTO:+0000
TZNAME:UTC
DTSTART:20240101T000000
END:STANDARD
END:VTIMEZONE
BEGIN:VEVENT
DTSTART;TZID=UTC:20250129T183000
DTEND;TZID=UTC:20250129T200000
DTSTAMP:20260421T140506
CREATED:20241220T060030Z
LAST-MODIFIED:20250106T173509Z
UID:10000004-1738175400-1738180800@caring-families.ca
SUMMARY:Talking About Sexting CLN (Virtual)
DESCRIPTION:Wednesday\, January 29th\, 6:30pm to 8:00 pm  \nPresented by Certified Sexual Health Educator Kerri Isham  \nOpen to Foster and Kinship Caregivers.  \nSexting refers to the sending of sexual messages\, photos or videos using a mobile device.  \nIn this workshop\, you will learn…  \n1. Why someone would ask someone to send them a nude  \n2. Why someone would send a nude  \n3. What the risks are to sending nudes  \n4. What the legalities are for taking\, sharing\, or storing nudes  \n5. How to reduce risk.  \nKerri Isham is a knowledgeable\, experienced\, and passionate educator\, author\, and presenter with over 25 years of experience. She is committed to the empowerment of people of all ages.  \nCaring Families Society will cover the registration cost for foster and kinship caregivers who attend this workshop. Youth 12+ can attend as a guest when accompanied by their caregiver.  \nRegister at: https://learn.fpsss.com/training/7-part-sexual-health-training-series-part-4/ 
URL:https://caring-families.ca/event/talking-about-sexting-cln-virtual/
CATEGORIES:Virtual
END:VEVENT
END:VCALENDAR