BEGIN:VCALENDAR
VERSION:2.0
PRODID:-//Caring Families Society - ECPv6.15.19//NONSGML v1.0//EN
CALSCALE:GREGORIAN
METHOD:PUBLISH
X-ORIGINAL-URL:https://caring-families.ca
X-WR-CALDESC:Events for Caring Families Society
REFRESH-INTERVAL;VALUE=DURATION:PT1H
X-Robots-Tag:noindex
X-PUBLISHED-TTL:PT1H
BEGIN:VTIMEZONE
TZID:UTC
BEGIN:STANDARD
TZOFFSETFROM:+0000
TZOFFSETTO:+0000
TZNAME:UTC
DTSTART:20240101T000000
END:STANDARD
END:VTIMEZONE
BEGIN:VEVENT
DTSTART;TZID=UTC:20250207T093000
DTEND;TZID=UTC:20250207T110000
DTSTAMP:20260420T085901
CREATED:20241221T000624Z
LAST-MODIFIED:20241221T004148Z
UID:10000034-1738920600-1738926000@caring-families.ca
SUMMARY:MCFD Partnership Meeting
DESCRIPTION:MCFD Partnership Meeting  \nWednesday\, February 7th\, 9:30am to 11:00am  \n15 Craig Street\, Duncan\, or virtually via Teams  \nPartnership gatherings are an opportunity for foster caregivers and social workers to network\, share information\, ask questions\, and identify common issues. MCFD office doors open at 9:00am for foster caregivers to catch up with one another and resource workers before the start of the 9:30am meeting. Please look for an email with more information and the optional virtual participation link closer to event date.
URL:https://caring-families.ca/event/mcfd-partnership-meeting/
CATEGORIES:Central Island
END:VEVENT
END:VCALENDAR